Package: waddR Version: 1.22.0 Command: /home/biocbuild/R/R/bin/R CMD check --install=check:waddR.install-out.txt --library=/home/biocbuild/R/R/site-library --no-vignettes --timings waddR_1.22.0.tar.gz StartedAt: 2025-05-27 14:45:06 -0000 (Tue, 27 May 2025) EndedAt: 2025-05-27 15:02:23 -0000 (Tue, 27 May 2025) EllapsedTime: 1036.7 seconds RetCode: 0 Status: OK CheckDir: waddR.Rcheck Warnings: 0