Package: waddR Version: 1.22.0 Command: /home/biocbuild/R/R/bin/R CMD build --keep-empty-dirs --no-resave-data waddR StartedAt: 2025-09-30 06:15:48 -0000 (Tue, 30 Sep 2025) EndedAt: 2025-09-30 06:18:14 -0000 (Tue, 30 Sep 2025) EllapsedTime: 146.1 seconds RetCode: 0 Status: OK PackageFile: waddR_1.22.0.tar.gz PackageFileSize: 157.8 KiB