Package: waddR Version: 1.21.0 Command: rm -rf waddR.buildbin-libdir && mkdir waddR.buildbin-libdir && /Users/biocbuild/BBS/utils/build-universal.sh waddR_1.21.0.tar.gz /Library/Frameworks/R.framework/Resources/bin/R waddR.buildbin-libdir StartedAt: 2025-03-13 22:40:26 -0400 (Thu, 13 Mar 2025) EndedAt: 2025-03-13 22:40:44 -0400 (Thu, 13 Mar 2025) EllapsedTime: 18.3 seconds RetCode: 0 Status: OK PackageFile: waddR_1.21.0.tgz PackageFileSize: 204.3 KiB