Package: waddR Version: 1.22.0 Command: /Library/Frameworks/R.framework/Resources/bin/R CMD build --keep-empty-dirs --no-resave-data waddR StartedAt: 2025-09-30 11:50:37 -0400 (Tue, 30 Sep 2025) EndedAt: 2025-09-30 11:52:07 -0400 (Tue, 30 Sep 2025) EllapsedTime: 90.3 seconds RetCode: 1 Status: ERROR PackageFile: None PackageFileSize: NA