Package: vtpnet Version: 0.48.0 Command: /home/biocbuild/R/R/bin/R CMD INSTALL vtpnet StartedAt: 2025-10-13 20:57:01 -0000 (Mon, 13 Oct 2025) EndedAt: 2025-10-13 20:58:09 -0000 (Mon, 13 Oct 2025) EllapsedTime: 68.2 seconds RetCode: 0 Status: OK