Package: vsn Version: 3.76.0 Command: rm -rf vsn.buildbin-libdir && mkdir vsn.buildbin-libdir && E:\biocbuild\bbs-3.21-bioc\R\bin\R.exe CMD INSTALL --build --library=vsn.buildbin-libdir vsn_3.76.0.tar.gz StartedAt: 2025-08-15 10:34:12 -0400 (Fri, 15 Aug 2025) EndedAt: 2025-08-15 10:34:37 -0400 (Fri, 15 Aug 2025) EllapsedTime: 24.6 seconds RetCode: 0 Status: OK PackageFile: vsn_3.76.0.zip PackageFileSize: 1.565 MiB