Package: vsn Version: 3.76.0 Command: /Library/Frameworks/R.framework/Resources/bin/R CMD INSTALL vsn StartedAt: 2025-10-09 15:20:32 -0400 (Thu, 09 Oct 2025) EndedAt: 2025-10-09 15:20:52 -0400 (Thu, 09 Oct 2025) EllapsedTime: 20.1 seconds RetCode: 0 Status: OK