Package: vsn Version: 3.76.0 Command: /Library/Frameworks/R.framework/Resources/bin/R CMD build --keep-empty-dirs --no-resave-data vsn StartedAt: 2025-10-09 23:34:15 -0400 (Thu, 09 Oct 2025) EndedAt: 2025-10-09 23:36:04 -0400 (Thu, 09 Oct 2025) EllapsedTime: 108.6 seconds RetCode: 0 Status: OK PackageFile: vsn_3.76.0.tar.gz PackageFileSize: 2.254 MiB