Package: vsn Version: 3.76.0 Command: rm -rf vsn.buildbin-libdir && mkdir vsn.buildbin-libdir && /Users/biocbuild/BBS/utils/build-universal.sh vsn_3.76.0.tar.gz /Library/Frameworks/R.framework/Resources/bin/R vsn.buildbin-libdir StartedAt: 2025-10-10 15:03:37 -0400 (Fri, 10 Oct 2025) EndedAt: 2025-10-10 15:04:09 -0400 (Fri, 10 Oct 2025) EllapsedTime: 32.2 seconds RetCode: 0 Status: OK PackageFile: vsn_3.76.0.tgz PackageFileSize: 2.511 MiB