Package: vsn Version: 3.76.0 Command: /Library/Frameworks/R.framework/Resources/bin/R CMD INSTALL vsn StartedAt: 2025-04-21 15:12:49 -0400 (Mon, 21 Apr 2025) EndedAt: 2025-04-21 15:13:00 -0400 (Mon, 21 Apr 2025) EllapsedTime: 11.4 seconds RetCode: 0 Status: OK