Package: vsn Version: 3.76.0 Command: /Library/Frameworks/R.framework/Resources/bin/R CMD INSTALL vsn StartedAt: 2025-04-21 15:06:46 -0400 (Mon, 21 Apr 2025) EndedAt: 2025-04-21 15:06:50 -0400 (Mon, 21 Apr 2025) EllapsedTime: 3.8 seconds RetCode: 0 Status: OK