Package: vsn Version: 3.76.0 Command: /Library/Frameworks/R.framework/Resources/bin/R CMD check --install=check:vsn.install-out.txt --library=/Library/Frameworks/R.framework/Resources/library --no-vignettes --timings vsn_3.76.0.tar.gz StartedAt: 2025-04-21 22:18:28 -0400 (Mon, 21 Apr 2025) EndedAt: 2025-04-21 22:18:54 -0400 (Mon, 21 Apr 2025) EllapsedTime: 25.4 seconds RetCode: 0 Status: OK CheckDir: vsn.Rcheck Warnings: 0