Package: vsn Version: 3.76.0 Command: /Library/Frameworks/R.framework/Resources/bin/R CMD INSTALL vsn StartedAt: 2025-10-09 15:34:33 -0400 (Thu, 09 Oct 2025) EndedAt: 2025-10-09 15:34:46 -0400 (Thu, 09 Oct 2025) EllapsedTime: 12.8 seconds RetCode: 0 Status: OK