Package: vsclust Version: 1.10.0 Command: /Library/Frameworks/R.framework/Resources/bin/R CMD INSTALL vsclust StartedAt: 2025-10-13 16:18:26 -0400 (Mon, 13 Oct 2025) EndedAt: 2025-10-13 16:19:03 -0400 (Mon, 13 Oct 2025) EllapsedTime: 37.5 seconds RetCode: 0 Status: OK