Package: vsclust Version: 1.10.0 Command: /Library/Frameworks/R.framework/Resources/bin/R CMD check --install=check:vsclust.install-out.txt --library=/Library/Frameworks/R.framework/Resources/library --no-vignettes --timings vsclust_1.10.0.tar.gz StartedAt: 2025-10-15 16:38:37 -0400 (Wed, 15 Oct 2025) EndedAt: 2025-10-15 16:44:14 -0400 (Wed, 15 Oct 2025) EllapsedTime: 336.8 seconds RetCode: 0 Status: WARNINGS CheckDir: vsclust.Rcheck Warnings: 1