Package: vmrseq Version: 1.0.1 Command: rm -rf vmrseq.buildbin-libdir && mkdir vmrseq.buildbin-libdir && E:\biocbuild\bbs-3.21-bioc\R\bin\R.exe CMD INSTALL --build --library=vmrseq.buildbin-libdir vmrseq_1.0.1.tar.gz StartedAt: 2025-08-15 10:34:05 -0400 (Fri, 15 Aug 2025) EndedAt: 2025-08-15 10:35:01 -0400 (Fri, 15 Aug 2025) EllapsedTime: 55.9 seconds RetCode: 0 Status: OK PackageFile: vmrseq_1.0.1.zip PackageFileSize: 3.123 MiB