Package: vmrseq Version: 1.0.1 Command: /Library/Frameworks/R.framework/Resources/bin/R CMD check --install=check:vmrseq.install-out.txt --library=/Library/Frameworks/R.framework/Resources/library --no-vignettes --timings vmrseq_1.0.1.tar.gz StartedAt: 2025-10-14 12:13:56 -0400 (Tue, 14 Oct 2025) EndedAt: 2025-10-14 12:25:16 -0400 (Tue, 14 Oct 2025) EllapsedTime: 679.8 seconds RetCode: 0 Status: OK CheckDir: vmrseq.Rcheck Warnings: 0