Package: vmrseq Version: 1.0.1 Command: /home/biocbuild/R/R/bin/R CMD INSTALL vmrseq StartedAt: 2025-10-13 20:55:25 -0000 (Mon, 13 Oct 2025) EndedAt: 2025-10-13 20:56:27 -0000 (Mon, 13 Oct 2025) EllapsedTime: 61.5 seconds RetCode: 0 Status: OK