Package: vmrseq Version: 1.0.1 Command: /home/biocbuild/R/R/bin/R CMD build --keep-empty-dirs --no-resave-data vmrseq StartedAt: 2025-10-14 05:41:10 -0000 (Tue, 14 Oct 2025) EndedAt: 2025-10-14 05:43:16 -0000 (Tue, 14 Oct 2025) EllapsedTime: 126.1 seconds RetCode: 0 Status: OK PackageFile: vmrseq_1.0.1.tar.gz PackageFileSize: 3.337 MiB