Package: vmrseq Version: 1.0.0 Command: /Library/Frameworks/R.framework/Resources/bin/R CMD check --install=check:vmrseq.install-out.txt --library=/Library/Frameworks/R.framework/Resources/library --no-vignettes --timings vmrseq_1.0.0.tar.gz StartedAt: 2025-04-21 22:17:56 -0400 (Mon, 21 Apr 2025) EndedAt: 2025-04-21 22:20:08 -0400 (Mon, 21 Apr 2025) EllapsedTime: 132.6 seconds RetCode: 0 Status: OK CheckDir: vmrseq.Rcheck Warnings: 0