Package: vmrseq Version: 1.0.1 Command: /Library/Frameworks/R.framework/Resources/bin/R CMD INSTALL vmrseq StartedAt: 2025-10-13 17:20:30 -0400 (Mon, 13 Oct 2025) EndedAt: 2025-10-13 17:21:22 -0400 (Mon, 13 Oct 2025) EllapsedTime: 51.9 seconds RetCode: 0 Status: OK