Package: visiumStitched Version: 1.0.0 Command: /Library/Frameworks/R.framework/Resources/bin/R CMD build --keep-empty-dirs --no-resave-data visiumStitched StartedAt: 2025-04-21 18:49:59 -0400 (Mon, 21 Apr 2025) EndedAt: 2025-04-21 18:55:16 -0400 (Mon, 21 Apr 2025) EllapsedTime: 316.8 seconds RetCode: 0 Status: OK PackageFile: visiumStitched_1.0.0.tar.gz PackageFileSize: 4.48 MiB