Package: vidger Version: 1.28.0 Command: /Library/Frameworks/R.framework/Resources/bin/R CMD INSTALL vidger StartedAt: 2025-09-29 15:37:40 -0400 (Mon, 29 Sep 2025) EndedAt: 2025-09-29 15:38:57 -0400 (Mon, 29 Sep 2025) EllapsedTime: 77.4 seconds RetCode: 0 Status: OK