Package: vidger Version: 1.28.0 Command: /Library/Frameworks/R.framework/Resources/bin/R CMD build --keep-empty-dirs --no-resave-data vidger StartedAt: 2025-09-29 23:30:51 -0400 (Mon, 29 Sep 2025) EndedAt: 2025-09-29 23:35:04 -0400 (Mon, 29 Sep 2025) EllapsedTime: 253.3 seconds RetCode: 0 Status: OK PackageFile: vidger_1.28.0.tar.gz PackageFileSize: 8.705 MiB