Package: vidger Version: 1.28.0 Command: /home/biocbuild/R/R/bin/R CMD build --keep-empty-dirs --no-resave-data vidger StartedAt: 2025-09-30 06:12:39 -0000 (Tue, 30 Sep 2025) EndedAt: 2025-09-30 06:15:04 -0000 (Tue, 30 Sep 2025) EllapsedTime: 145.0 seconds RetCode: 0 Status: OK PackageFile: vidger_1.28.0.tar.gz PackageFileSize: 7.11 MiB