Package: vidger Version: 1.28.0 Command: /Library/Frameworks/R.framework/Resources/bin/R CMD build --keep-empty-dirs --no-resave-data vidger StartedAt: 2025-09-30 11:40:46 -0400 (Tue, 30 Sep 2025) EndedAt: 2025-09-30 11:43:02 -0400 (Tue, 30 Sep 2025) EllapsedTime: 136.2 seconds RetCode: 0 Status: OK PackageFile: vidger_1.28.0.tar.gz PackageFileSize: 8.722 MiB