Package: vidger Version: 1.28.0 Command: rm -rf vidger.buildbin-libdir && mkdir vidger.buildbin-libdir && /Users/biocbuild/BBS/utils/build-universal.sh vidger_1.28.0.tar.gz /Library/Frameworks/R.framework/Resources/bin/R vidger.buildbin-libdir StartedAt: 2025-10-01 20:59:38 -0400 (Wed, 01 Oct 2025) EndedAt: 2025-10-01 21:00:26 -0400 (Wed, 01 Oct 2025) EllapsedTime: 48.0 seconds RetCode: 0 Status: OK PackageFile: vidger_1.28.0.tgz PackageFileSize: 8.957 MiB