Package: veloviz Version: 1.14.0 Command: /home/biocbuild/bbs-3.21-bioc/R/bin/R CMD check --install=check:veloviz.install-out.txt --library=/home/biocbuild/bbs-3.21-bioc/R/site-library --timings veloviz_1.14.0.tar.gz StartedAt: 2025-10-16 04:45:45 -0400 (Thu, 16 Oct 2025) EndedAt: 2025-10-16 04:46:46 -0400 (Thu, 16 Oct 2025) EllapsedTime: 60.1 seconds RetCode: 0 Status: OK CheckDir: veloviz.Rcheck Warnings: 0