Package: veloviz Version: 1.14.0 Command: /Library/Frameworks/R.framework/Resources/bin/R CMD build --keep-empty-dirs --no-resave-data veloviz StartedAt: 2025-10-13 23:30:04 -0400 (Mon, 13 Oct 2025) EndedAt: 2025-10-13 23:30:48 -0400 (Mon, 13 Oct 2025) EllapsedTime: 43.4 seconds RetCode: 0 Status: OK PackageFile: veloviz_1.14.0.tar.gz PackageFileSize: 3.578 MiB