Package: veloviz Version: 1.14.0 Command: /Library/Frameworks/R.framework/Resources/bin/R CMD check --install=check:veloviz.install-out.txt --library=/Library/Frameworks/R.framework/Resources/library --no-vignettes --timings veloviz_1.14.0.tar.gz StartedAt: 2025-04-22 00:18:03 -0400 (Tue, 22 Apr 2025) EndedAt: 2025-04-22 00:19:22 -0400 (Tue, 22 Apr 2025) EllapsedTime: 79.2 seconds RetCode: 0 Status: OK CheckDir: veloviz.Rcheck Warnings: 0