Package: veloviz Version: 1.14.0 Command: /home/biocbuild/R/R/bin/R CMD INSTALL veloviz StartedAt: 2025-10-13 20:17:13 -0000 (Mon, 13 Oct 2025) EndedAt: 2025-10-13 20:18:15 -0000 (Mon, 13 Oct 2025) EllapsedTime: 61.9 seconds RetCode: 0 Status: OK