Package: veloviz Version: 1.14.0 Command: /home/biocbuild/R/R/bin/R CMD check --install=check:veloviz.install-out.txt --library=/home/biocbuild/R/R/site-library --no-vignettes --timings veloviz_1.14.0.tar.gz StartedAt: 2025-10-10 15:16:00 -0000 (Fri, 10 Oct 2025) EndedAt: 2025-10-10 15:17:18 -0000 (Fri, 10 Oct 2025) EllapsedTime: 78.1 seconds RetCode: 0 Status: OK CheckDir: veloviz.Rcheck Warnings: 0