Package: velociraptor Version: 1.18.0 Command: /home/biocbuild/bbs-3.21-bioc/R/bin/R CMD INSTALL velociraptor StartedAt: 2025-10-01 15:54:04 -0400 (Wed, 01 Oct 2025) EndedAt: 2025-10-01 15:54:23 -0400 (Wed, 01 Oct 2025) EllapsedTime: 18.7 seconds RetCode: 0 Status: OK