Package: velociraptor Version: 1.18.0 Command: /Library/Frameworks/R.framework/Resources/bin/R CMD INSTALL velociraptor StartedAt: 2025-09-29 16:32:19 -0400 (Mon, 29 Sep 2025) EndedAt: 2025-09-29 16:33:05 -0400 (Mon, 29 Sep 2025) EllapsedTime: 45.9 seconds RetCode: 0 Status: OK