Package: velociraptor Version: 1.18.0 Command: rm -rf velociraptor.buildbin-libdir && mkdir velociraptor.buildbin-libdir && /Users/biocbuild/BBS/utils/build-universal.sh velociraptor_1.18.0.tar.gz /Library/Frameworks/R.framework/Resources/bin/R velociraptor.buildbin-libdir StartedAt: 2025-09-30 14:50:25 -0400 (Tue, 30 Sep 2025) EndedAt: 2025-09-30 14:51:16 -0400 (Tue, 30 Sep 2025) EllapsedTime: 50.9 seconds RetCode: 0 Status: OK PackageFile: velociraptor_1.18.0.tgz PackageFileSize: 927 KiB