Package: velociraptor Version: 1.18.0 Command: /Library/Frameworks/R.framework/Resources/bin/R CMD INSTALL velociraptor StartedAt: 2025-04-21 15:28:25 -0400 (Mon, 21 Apr 2025) EndedAt: 2025-04-21 15:28:33 -0400 (Mon, 21 Apr 2025) EllapsedTime: 8.2 seconds RetCode: 0 Status: OK