Package: velociraptor Version: 1.18.0 Command: /Library/Frameworks/R.framework/Resources/bin/R CMD build --keep-empty-dirs --no-resave-data velociraptor StartedAt: 2025-09-30 11:39:57 -0400 (Tue, 30 Sep 2025) EndedAt: 2025-09-30 11:42:20 -0400 (Tue, 30 Sep 2025) EllapsedTime: 143.2 seconds RetCode: 0 Status: OK PackageFile: velociraptor_1.18.0.tar.gz PackageFileSize: 806.2 KiB