Package: vbmp Version: 1.76.0 Command: /Library/Frameworks/R.framework/Resources/bin/R CMD INSTALL vbmp StartedAt: 2025-10-13 15:13:24 -0400 (Mon, 13 Oct 2025) EndedAt: 2025-10-13 15:13:35 -0400 (Mon, 13 Oct 2025) EllapsedTime: 11.0 seconds RetCode: 0 Status: OK