Package: vbmp Version: 1.76.0 Command: /Library/Frameworks/R.framework/Resources/bin/R CMD build --keep-empty-dirs --no-resave-data vbmp StartedAt: 2025-10-14 11:43:31 -0400 (Tue, 14 Oct 2025) EndedAt: 2025-10-14 11:44:14 -0400 (Tue, 14 Oct 2025) EllapsedTime: 43.4 seconds RetCode: 0 Status: OK PackageFile: vbmp_1.76.0.tar.gz PackageFileSize: 1.762 MiB