Package: universalmotif Version: 1.26.3 Command: /Library/Frameworks/R.framework/Resources/bin/R CMD check --install=check:universalmotif.install-out.txt --library=/Library/Frameworks/R.framework/Resources/library --no-vignettes --timings universalmotif_1.26.3.tar.gz StartedAt: 2025-10-03 11:54:52 -0400 (Fri, 03 Oct 2025) EndedAt: 2025-10-03 12:00:36 -0400 (Fri, 03 Oct 2025) EllapsedTime: 344.5 seconds RetCode: 0 Status: OK CheckDir: universalmotif.Rcheck Warnings: 0