Package: universalmotif Version: 1.26.3 Command: rm -rf universalmotif.buildbin-libdir && mkdir universalmotif.buildbin-libdir && /Users/biocbuild/BBS/utils/build-universal.sh universalmotif_1.26.3.tar.gz /Library/Frameworks/R.framework/Resources/bin/R universalmotif.buildbin-libdir StartedAt: 2025-10-03 14:49:33 -0400 (Fri, 03 Oct 2025) EndedAt: 2025-10-03 14:53:40 -0400 (Fri, 03 Oct 2025) EllapsedTime: 246.9 seconds RetCode: 0 Status: OK PackageFile: universalmotif_1.26.3.tgz PackageFileSize: 5.585 MiB