Package: universalmotif Version: 1.26.0 Command: /Library/Frameworks/R.framework/Resources/bin/R CMD check --install=check:universalmotif.install-out.txt --library=/Library/Frameworks/R.framework/Resources/library --no-vignettes --timings universalmotif_1.26.0.tar.gz StartedAt: 2025-04-21 00:19:07 -0400 (Mon, 21 Apr 2025) EndedAt: 2025-04-21 00:21:56 -0400 (Mon, 21 Apr 2025) EllapsedTime: 169.4 seconds RetCode: 0 Status: OK CheckDir: universalmotif.Rcheck Warnings: 0