Package: universalmotif Version: 1.26.0 Command: rm -rf universalmotif.buildbin-libdir && mkdir universalmotif.buildbin-libdir && /Users/biocbuild/BBS/utils/build-universal.sh universalmotif_1.26.0.tar.gz /Library/Frameworks/R.framework/Resources/bin/R universalmotif.buildbin-libdir StartedAt: 2025-04-21 01:17:10 -0400 (Mon, 21 Apr 2025) EndedAt: 2025-04-21 01:19:06 -0400 (Mon, 21 Apr 2025) EllapsedTime: 116.7 seconds RetCode: 0 Status: OK PackageFile: universalmotif_1.26.0.tgz PackageFileSize: 5.582 MiB