Package: universalmotif Version: 1.26.1 Command: /Library/Frameworks/R.framework/Resources/bin/R CMD build --keep-empty-dirs --no-resave-data universalmotif StartedAt: 2025-04-21 17:56:41 -0400 (Mon, 21 Apr 2025) EndedAt: 2025-04-21 17:57:51 -0400 (Mon, 21 Apr 2025) EllapsedTime: 69.8 seconds RetCode: 1 Status: ERROR PackageFile: None PackageFileSize: NA