Package: unifiedWMWqPCR Version: 1.44.0 Command: /Library/Frameworks/R.framework/Resources/bin/R CMD check --install=check:unifiedWMWqPCR.install-out.txt --library=/Library/Frameworks/R.framework/Resources/library --no-vignettes --timings unifiedWMWqPCR_1.44.0.tar.gz StartedAt: 2025-10-14 12:04:28 -0400 (Tue, 14 Oct 2025) EndedAt: 2025-10-14 12:05:41 -0400 (Tue, 14 Oct 2025) EllapsedTime: 73.5 seconds RetCode: 0 Status: OK CheckDir: unifiedWMWqPCR.Rcheck Warnings: 0