Package: unifiedWMWqPCR Version: 1.44.0 Command: /Library/Frameworks/R.framework/Resources/bin/R CMD check --install=check:unifiedWMWqPCR.install-out.txt --library=/Library/Frameworks/R.framework/Resources/library --no-vignettes --timings unifiedWMWqPCR_1.44.0.tar.gz StartedAt: 2025-04-22 00:16:33 -0400 (Tue, 22 Apr 2025) EndedAt: 2025-04-22 00:17:19 -0400 (Tue, 22 Apr 2025) EllapsedTime: 46.1 seconds RetCode: 0 Status: OK CheckDir: unifiedWMWqPCR.Rcheck Warnings: 0