Package: uSORT Version: 1.34.0 Command: /Library/Frameworks/R.framework/Resources/bin/R CMD build --keep-empty-dirs --no-resave-data uSORT StartedAt: 2025-10-13 23:27:32 -0400 (Mon, 13 Oct 2025) EndedAt: 2025-10-13 23:28:49 -0400 (Mon, 13 Oct 2025) EllapsedTime: 77.0 seconds RetCode: 0 Status: OK PackageFile: uSORT_1.34.0.tar.gz PackageFileSize: 2.814 MiB