Package: tximeta Version: 1.26.2 Command: /home/biocbuild/bbs-3.21-bioc/R/bin/R CMD check --install=check:tximeta.install-out.txt --library=/home/biocbuild/bbs-3.21-bioc/R/site-library --timings tximeta_1.26.2.tar.gz StartedAt: 2025-10-16 04:39:15 -0400 (Thu, 16 Oct 2025) EndedAt: 2025-10-16 04:45:45 -0400 (Thu, 16 Oct 2025) EllapsedTime: 390.5 seconds RetCode: 0 Status: OK CheckDir: tximeta.Rcheck Warnings: 0