Package: tximeta Version: 1.26.2 Command: /Library/Frameworks/R.framework/Resources/bin/R CMD INSTALL tximeta StartedAt: 2025-10-13 16:16:10 -0400 (Mon, 13 Oct 2025) EndedAt: 2025-10-13 16:17:31 -0400 (Mon, 13 Oct 2025) EllapsedTime: 81.3 seconds RetCode: 0 Status: OK