Package: tximeta Version: 1.26.2 Command: /Library/Frameworks/R.framework/Resources/bin/R CMD build --keep-empty-dirs --no-resave-data tximeta StartedAt: 2025-10-13 23:25:14 -0400 (Mon, 13 Oct 2025) EndedAt: 2025-10-13 23:28:34 -0400 (Mon, 13 Oct 2025) EllapsedTime: 200.1 seconds RetCode: 0 Status: OK PackageFile: tximeta_1.26.2.tar.gz PackageFileSize: 1.333 MiB